BEGIN:VCALENDAR
VERSION:2.0
PRODID:-//Chapel for Europe - ECPv6.15.20//NONSGML v1.0//EN
CALSCALE:GREGORIAN
METHOD:PUBLISH
X-ORIGINAL-URL:https://chapelforeurope.eu
X-WR-CALDESC:Events for Chapel for Europe
REFRESH-INTERVAL;VALUE=DURATION:PT1H
X-Robots-Tag:noindex
X-PUBLISHED-TTL:PT1H
BEGIN:VTIMEZONE
TZID:Europe/Brussels
BEGIN:DAYLIGHT
TZOFFSETFROM:+0100
TZOFFSETTO:+0200
TZNAME:CEST
DTSTART:20230326T010000
END:DAYLIGHT
BEGIN:STANDARD
TZOFFSETFROM:+0200
TZOFFSETTO:+0100
TZNAME:CET
DTSTART:20231029T010000
END:STANDARD
BEGIN:DAYLIGHT
TZOFFSETFROM:+0100
TZOFFSETTO:+0200
TZNAME:CEST
DTSTART:20240331T010000
END:DAYLIGHT
BEGIN:STANDARD
TZOFFSETFROM:+0200
TZOFFSETTO:+0100
TZNAME:CET
DTSTART:20241027T010000
END:STANDARD
BEGIN:DAYLIGHT
TZOFFSETFROM:+0100
TZOFFSETTO:+0200
TZNAME:CEST
DTSTART:20250330T010000
END:DAYLIGHT
BEGIN:STANDARD
TZOFFSETFROM:+0200
TZOFFSETTO:+0100
TZNAME:CET
DTSTART:20251026T010000
END:STANDARD
END:VTIMEZONE
BEGIN:VEVENT
DTSTART;TZID=Europe/Brussels:20240721T190000
DTEND;TZID=Europe/Brussels:20240721T200000
DTSTAMP:20260420T121224
CREATED:20240716T153134Z
LAST-MODIFIED:20240718T090200Z
UID:10002367-1721588400-1721592000@chapelforeurope.eu
SUMMARY:Mass for young professionals (en)
DESCRIPTION:We invite everybody\, espacially the young professionals from the european and international milieu to come together to celebrate the Sunday with this (catholic) mass with Taizé-songs and sharing on the Gospel and praying together. \nThe service is usually in English. After the mass\, we have a traditional drink and chat. \nCotact:welcome@chapelforeurope.eu
URL:https://chapelforeurope.eu/event/mass-for-young-professionals-4/
CATEGORIES:Regular Events
ATTACH;FMTTYPE=image/jpeg:https://chapelforeurope.eu/wp-content/uploads/2024/07/IMG_0248-scaled-e1721141541741.jpg
END:VEVENT
END:VCALENDAR