BEGIN:VCALENDAR
VERSION:2.0
PRODID:-//Chapel for Europe - ECPv6.15.20//NONSGML v1.0//EN
CALSCALE:GREGORIAN
METHOD:PUBLISH
X-WR-CALNAME:Chapel for Europe
X-ORIGINAL-URL:https://chapelforeurope.eu
X-WR-CALDESC:Events for Chapel for Europe
REFRESH-INTERVAL;VALUE=DURATION:PT1H
X-Robots-Tag:noindex
X-PUBLISHED-TTL:PT1H
BEGIN:VTIMEZONE
TZID:Europe/Brussels
BEGIN:DAYLIGHT
TZOFFSETFROM:+0100
TZOFFSETTO:+0200
TZNAME:CEST
DTSTART:20230326T010000
END:DAYLIGHT
BEGIN:STANDARD
TZOFFSETFROM:+0200
TZOFFSETTO:+0100
TZNAME:CET
DTSTART:20231029T010000
END:STANDARD
BEGIN:DAYLIGHT
TZOFFSETFROM:+0100
TZOFFSETTO:+0200
TZNAME:CEST
DTSTART:20240331T010000
END:DAYLIGHT
BEGIN:STANDARD
TZOFFSETFROM:+0200
TZOFFSETTO:+0100
TZNAME:CET
DTSTART:20241027T010000
END:STANDARD
BEGIN:DAYLIGHT
TZOFFSETFROM:+0100
TZOFFSETTO:+0200
TZNAME:CEST
DTSTART:20250330T010000
END:DAYLIGHT
BEGIN:STANDARD
TZOFFSETFROM:+0200
TZOFFSETTO:+0100
TZNAME:CET
DTSTART:20251026T010000
END:STANDARD
END:VTIMEZONE
BEGIN:VEVENT
DTSTART;TZID=Europe/Brussels:20240924T131500
DTEND;TZID=Europe/Brussels:20240924T135000
DTSTAMP:20260420T082531
CREATED:20240715T154227Z
LAST-MODIFIED:20241216T113035Z
UID:10001597-1727183700-1727185800@chapelforeurope.eu
SUMMARY:Messe (fr.)
DESCRIPTION:At the Chapel for Europe weekly masses are celebrated on Tuesdays and Wednesdays at 13:15. \nThe mass is celebrated according to the roman catholic liturgy including the Eucharist. Usually the celebration will be in French\, on occasions also in  English\, depending the attendees. \nThe Chapel opens its doors and welcomes you from Monday to Thursday from 12:00 to 14:00 for a silent prayer\, a moment of reflection or just some minutes of spiritual pause during the busy week days. Come as you are\, you are always welcome! \n 
URL:https://chapelforeurope.eu/event/weekly-tuesday-and-wednesday-mass-at-1315-fr/2024-09-24/
CATEGORIES:Mass
ATTACH;FMTTYPE=image/jpeg:https://chapelforeurope.eu/wp-content/uploads/2024/07/IMG_0248-scaled-e1721141541741.jpg
END:VEVENT
BEGIN:VEVENT
DTSTART;TZID=Europe/Brussels:20240924T190000
DTEND;TZID=Europe/Brussels:20240924T200000
DTSTAMP:20260420T082531
CREATED:20240905T105035Z
LAST-MODIFIED:20240909T135134Z
UID:10004721-1727204400-1727208000@chapelforeurope.eu
SUMMARY:Memorial mass for Mgr Noël Treanor
DESCRIPTION:COMECE and the Chapel for Europe invite you to a commemoration mass for Mgr Noël Treanor on Tuesday\, 24 September 2024\,  at 19:00 at the Chapel. \nCompletely unexpected Mgr Noël Treanor died on Sunday\, August 11\, 2024. With his immense European experience\, being a polyglot and a fervent supporter of the European integration\, he served these last years as the Apostolic Nuncio to the European Union. Whoever met him was amazed by his kindness and openness\, his commitment and his modesty. He was beloved by many and was a great friend and supporter of the Chapel for Europe. In his time as Secretary General of COMECE\,  he was decisively involved in the founding and beginnings of the Chapel for Europe. \nCome join us in prayer that he may enjoy eternal rest. \n                           
URL:https://chapelforeurope.eu/event/memorial-mass-for-mgr-noel-treanor/
LOCATION:Chapel for Europe\, Rue Van Maerlantstraat 22-24\, Brussels\, Belgium
CATEGORIES:Mass
ORGANIZER;CN="Chapel for Europe":MAILTO:welcome@chapelforeurope.eu
END:VEVENT
END:VCALENDAR