BEGIN:VCALENDAR
VERSION:2.0
PRODID:-//Chapel for Europe - ECPv6.15.20//NONSGML v1.0//EN
CALSCALE:GREGORIAN
METHOD:PUBLISH
X-ORIGINAL-URL:https://chapelforeurope.eu
X-WR-CALDESC:Events for Chapel for Europe
REFRESH-INTERVAL;VALUE=DURATION:PT1H
X-Robots-Tag:noindex
X-PUBLISHED-TTL:PT1H
BEGIN:VTIMEZONE
TZID:Europe/Brussels
BEGIN:DAYLIGHT
TZOFFSETFROM:+0100
TZOFFSETTO:+0200
TZNAME:CEST
DTSTART:20230326T010000
END:DAYLIGHT
BEGIN:STANDARD
TZOFFSETFROM:+0200
TZOFFSETTO:+0100
TZNAME:CET
DTSTART:20231029T010000
END:STANDARD
BEGIN:DAYLIGHT
TZOFFSETFROM:+0100
TZOFFSETTO:+0200
TZNAME:CEST
DTSTART:20240331T010000
END:DAYLIGHT
BEGIN:STANDARD
TZOFFSETFROM:+0200
TZOFFSETTO:+0100
TZNAME:CET
DTSTART:20241027T010000
END:STANDARD
BEGIN:DAYLIGHT
TZOFFSETFROM:+0100
TZOFFSETTO:+0200
TZNAME:CEST
DTSTART:20250330T010000
END:DAYLIGHT
BEGIN:STANDARD
TZOFFSETFROM:+0200
TZOFFSETTO:+0100
TZNAME:CET
DTSTART:20251026T010000
END:STANDARD
END:VTIMEZONE
BEGIN:VEVENT
DTSTART;TZID=Europe/Brussels:20240925T080000
DTEND;TZID=Europe/Brussels:20240925T090000
DTSTAMP:20260420T064505
CREATED:20240718T084456Z
LAST-MODIFIED:20241002T114813Z
UID:10003648-1727251200-1727254800@chapelforeurope.eu
SUMMARY:Morning prayer online (fr)
DESCRIPTION:Come and discover our Morning Prayer with psalms\, the Gospel of the day and intercession prayer\, following mainly the prayer of the Laudes.  The prayer are mostly in French\, but can also be partly in English\, depending on the attending persons. \n30 minutes of prayer are followed by a coffee or tea together in the foyer of the Chapel. An excellent way to start the working day! \nWhen: \n\nMondays\,  8:00-9:00 at the Chapel\nWednesday\, 8:00-9:00 via Zoom at https://us02web.zoom.us/j/82240793358#success \,  ID: 822 4079 3358 – There is no code\, there is a waiting room. For more information\, please contact:  ALCARAZ Fabienne at Fabienne.ALCARAZ@ec.europa.eu\nFridays\, 8:30-9:00 in the Crypt of the Chapel\n\nContact: Fabienne Alcaraz at  Fabienne.ALCARAZ@ec.europa.eu
URL:https://chapelforeurope.eu/event/morning-prayer-online/2024-09-25/
CATEGORIES:Mass
ATTACH;FMTTYPE=image/jpeg:https://chapelforeurope.eu/wp-content/uploads/2024/07/Morning-Prayer-1-scaled-1-e1721131312384.jpg
END:VEVENT
BEGIN:VEVENT
DTSTART;TZID=Europe/Brussels:20240925T131500
DTEND;TZID=Europe/Brussels:20240925T135000
DTSTAMP:20260420T064505
CREATED:20240715T154227Z
LAST-MODIFIED:20241216T113035Z
UID:10001598-1727270100-1727272200@chapelforeurope.eu
SUMMARY:Messe (fr.)
DESCRIPTION:At the Chapel for Europe weekly masses are celebrated on Tuesdays and Wednesdays at 13:15. \nThe mass is celebrated according to the roman catholic liturgy including the Eucharist. Usually the celebration will be in French\, on occasions also in  English\, depending the attendees. \nThe Chapel opens its doors and welcomes you from Monday to Thursday from 12:00 to 14:00 for a silent prayer\, a moment of reflection or just some minutes of spiritual pause during the busy week days. Come as you are\, you are always welcome! \n 
URL:https://chapelforeurope.eu/event/weekly-tuesday-and-wednesday-mass-at-1315-fr/2024-09-25/
CATEGORIES:Mass
ATTACH;FMTTYPE=image/jpeg:https://chapelforeurope.eu/wp-content/uploads/2024/07/IMG_0248-scaled-e1721141541741.jpg
END:VEVENT
END:VCALENDAR