BEGIN:VCALENDAR
VERSION:2.0
PRODID:-//Chapel for Europe - ECPv6.15.20//NONSGML v1.0//EN
CALSCALE:GREGORIAN
METHOD:PUBLISH
X-WR-CALNAME:Chapel for Europe
X-ORIGINAL-URL:https://chapelforeurope.eu
X-WR-CALDESC:Events for Chapel for Europe
REFRESH-INTERVAL;VALUE=DURATION:PT1H
X-Robots-Tag:noindex
X-PUBLISHED-TTL:PT1H
BEGIN:VTIMEZONE
TZID:Europe/Brussels
BEGIN:DAYLIGHT
TZOFFSETFROM:+0100
TZOFFSETTO:+0200
TZNAME:CEST
DTSTART:20230326T010000
END:DAYLIGHT
BEGIN:STANDARD
TZOFFSETFROM:+0200
TZOFFSETTO:+0100
TZNAME:CET
DTSTART:20231029T010000
END:STANDARD
BEGIN:DAYLIGHT
TZOFFSETFROM:+0100
TZOFFSETTO:+0200
TZNAME:CEST
DTSTART:20240331T010000
END:DAYLIGHT
BEGIN:STANDARD
TZOFFSETFROM:+0200
TZOFFSETTO:+0100
TZNAME:CET
DTSTART:20241027T010000
END:STANDARD
BEGIN:DAYLIGHT
TZOFFSETFROM:+0100
TZOFFSETTO:+0200
TZNAME:CEST
DTSTART:20250330T010000
END:DAYLIGHT
BEGIN:STANDARD
TZOFFSETFROM:+0200
TZOFFSETTO:+0100
TZNAME:CET
DTSTART:20251026T010000
END:STANDARD
END:VTIMEZONE
BEGIN:VEVENT
DTSTART;TZID=Europe/Brussels:20241204T143000
DTEND;TZID=Europe/Brussels:20241204T160000
DTSTAMP:20260419T170639
CREATED:20241113T143332Z
LAST-MODIFIED:20241121T104930Z
UID:10005176-1733322600-1733328000@chapelforeurope.eu
SUMMARY:Adoration
DESCRIPTION:SIDE EVENT OF THE 27th ANNUAL EUROPEAN PRAYER BREAKFAST \nADORATION at the Chapel for Europe on Wednesday\, 4 December 14:30 – 16:00 \nDuring days of many commitments\, we invite you to meet Jesus also in a time of quiet personal prayer. Be there yourself\, in front of Him\, with all that is in your head and your heart\, and experience His presence. \nThe Chapel for Europe (3 minutes from the European Parliament\, Rue Van Maerlant 22) offers a space for silent prayer. In the afternoon of December 4\, the Chapel will be open for personal prayer in silence and adoration. \nThe Body of Christ – in the catholic tradition present in the bread that was consecrated at mass – on the altar leads to an immediate encounter and prayerful personal dialogue with the Lord. \nThe silent time of adoration starts with a short common prayer and ends with a prayer of blessing. You are welcome to join at any moment and stay as long as you can.
URL:https://chapelforeurope.eu/event/adoration-2/
LOCATION:Chapel for Europe\, Rue Van Maerlantstraat 22-24\, Brussels\, Belgium
CATEGORIES:Regular Events,Religion,Spirituality
ATTACH;FMTTYPE=image/png:https://chapelforeurope.eu/wp-content/uploads/2024/11/Image-ADORATION-European-Prayer-Breakfast-34.122024-e1731507864258.png
ORGANIZER;CN="Chapel for Europe":MAILTO:welcome@chapelforeurope.eu
END:VEVENT
BEGIN:VEVENT
DTSTART;TZID=Europe/Brussels:20241130T100000
DTEND;TZID=Europe/Brussels:20241130T180000
DTSTAMP:20260419T170639
CREATED:20241106T101514Z
LAST-MODIFIED:20241106T101720Z
UID:10004422-1732960800-1732989600@chapelforeurope.eu
SUMMARY:Alpha Course at the Chapel
DESCRIPTION:Come and be curious. An alpha course is a series of group conversations that freely explore the basics of the Christian faith in an open\, friendly environment. Everyone’s welcome. No matter your background or beliefs\, you’re invited. \nAlpha brings together people from all walks of life who are curious about faith. Each session starts with some time to eat\, relax and get to know your group. \nEach session covers a different topic of faith\, either in a short talk or video. The Alpha episodes are designed to engage and inspire conversation. They’re about thirty minutes long and explore the big issues around faith and unpack the basics of Christianity\, addressing questions such as Who is Jesus?\, How can we have faith? and How does God guide us?  \nThe last part of an Alpha is a chance to share your thoughts on the session’s topic and discuss it in your small groups. It’s an open and welcoming environment\, no matter what your opinion. There’s no pressure to say anything\, but the floor is yours if you do want to. \nDates: 12 Wednesdays\, 19:00-20:30 (16.10.-15.12.24; 15.1.-22.1.25) and one Saturday\, 10:00-18:00 (30.11.)
URL:https://chapelforeurope.eu/event/alpha-course-at-the-chapel-3/2024-11-30/
LOCATION:Chapel for Europe\, Rue Van Maerlantstraat 22-24\, Brussels\, Belgium
CATEGORIES:Ecumenical event,Regular Events,Religion,Sharing,Spirituality,Workshop
ORGANIZER;CN="Chapel for Europe":MAILTO:welcome@chapelforeurope.eu
END:VEVENT
BEGIN:VEVENT
DTSTART;TZID=Europe/Brussels:20241127T190000
DTEND;TZID=Europe/Brussels:20241127T203000
DTSTAMP:20260419T170639
CREATED:20241106T101514Z
LAST-MODIFIED:20241106T101720Z
UID:10004421-1732734000-1732739400@chapelforeurope.eu
SUMMARY:Alpha Course at the Chapel
DESCRIPTION:Come and be curious. An alpha course is a series of group conversations that freely explore the basics of the Christian faith in an open\, friendly environment. Everyone’s welcome. No matter your background or beliefs\, you’re invited. \nAlpha brings together people from all walks of life who are curious about faith. Each session starts with some time to eat\, relax and get to know your group. \nEach session covers a different topic of faith\, either in a short talk or video. The Alpha episodes are designed to engage and inspire conversation. They’re about thirty minutes long and explore the big issues around faith and unpack the basics of Christianity\, addressing questions such as Who is Jesus?\, How can we have faith? and How does God guide us?  \nThe last part of an Alpha is a chance to share your thoughts on the session’s topic and discuss it in your small groups. It’s an open and welcoming environment\, no matter what your opinion. There’s no pressure to say anything\, but the floor is yours if you do want to. \nDates: 12 Wednesdays\, 19:00-20:30 (16.10.-15.12.24; 15.1.-22.1.25) and one Saturday\, 10:00-18:00 (30.11.)
URL:https://chapelforeurope.eu/event/alpha-course-at-the-chapel-3/2024-11-27/
LOCATION:Chapel for Europe\, Rue Van Maerlantstraat 22-24\, Brussels\, Belgium
CATEGORIES:Ecumenical event,Regular Events,Religion,Sharing,Spirituality,Workshop
ORGANIZER;CN="Chapel for Europe":MAILTO:welcome@chapelforeurope.eu
END:VEVENT
BEGIN:VEVENT
DTSTART;TZID=Europe/Brussels:20241120T190000
DTEND;TZID=Europe/Brussels:20241120T203000
DTSTAMP:20260419T170639
CREATED:20241106T101514Z
LAST-MODIFIED:20241106T101720Z
UID:10004420-1732129200-1732134600@chapelforeurope.eu
SUMMARY:Alpha Course at the Chapel
DESCRIPTION:Come and be curious. An alpha course is a series of group conversations that freely explore the basics of the Christian faith in an open\, friendly environment. Everyone’s welcome. No matter your background or beliefs\, you’re invited. \nAlpha brings together people from all walks of life who are curious about faith. Each session starts with some time to eat\, relax and get to know your group. \nEach session covers a different topic of faith\, either in a short talk or video. The Alpha episodes are designed to engage and inspire conversation. They’re about thirty minutes long and explore the big issues around faith and unpack the basics of Christianity\, addressing questions such as Who is Jesus?\, How can we have faith? and How does God guide us?  \nThe last part of an Alpha is a chance to share your thoughts on the session’s topic and discuss it in your small groups. It’s an open and welcoming environment\, no matter what your opinion. There’s no pressure to say anything\, but the floor is yours if you do want to. \nDates: 12 Wednesdays\, 19:00-20:30 (16.10.-15.12.24; 15.1.-22.1.25) and one Saturday\, 10:00-18:00 (30.11.)
URL:https://chapelforeurope.eu/event/alpha-course-at-the-chapel-3/2024-11-20/
LOCATION:Chapel for Europe\, Rue Van Maerlantstraat 22-24\, Brussels\, Belgium
CATEGORIES:Ecumenical event,Regular Events,Religion,Sharing,Spirituality,Workshop
ORGANIZER;CN="Chapel for Europe":MAILTO:welcome@chapelforeurope.eu
END:VEVENT
BEGIN:VEVENT
DTSTART;TZID=Europe/Brussels:20241120T120000
DTEND;TZID=Europe/Brussels:20241120T130000
DTSTAMP:20260419T170639
CREATED:20241118T140438Z
LAST-MODIFIED:20241119T093454Z
UID:10005182-1732104000-1732107600@chapelforeurope.eu
SUMMARY:Festival "Venite\, Adoremus 2024"
DESCRIPTION:The Chapel for Europe invites you to take part in the ‘Venite\, Adoremus 2024’ Eucharistic Adoration Festival. \nThe Chapel will host the Venite\, Adoremus 2024 Festival in the crypt on : \n– Monday 18 November from 12:00 to 14:00. \n– Tuesday 19 November from 12:00 to 13:00. You are invited to join the weekly Mass at 1.15pm in the Chapel. \n– Wednesday 20 November from 12:00 to 13:00. You are invited to join the weekly Mass at 1.15pm in the Chapel. \n  \nThe Festival of Eucharistic Adoration ‘Venite\, Adoremus 2024’ will be from 14 to 24 November 2024\, throughout Belgium. \nHERE the full programme.
URL:https://chapelforeurope.eu/event/festival-venite-adoremus-2024/2024-11-20/
LOCATION:Chapel for Europe\, Rue Van Maerlantstraat 22-24\, Brussels\, Belgium
CATEGORIES:Regular Events,Religion,Spirituality
ATTACH;FMTTYPE=image/png:https://chapelforeurope.eu/wp-content/uploads/2024/11/Venite-Adoremus-Dec-2024-e1731938553748.png
ORGANIZER;CN="Chapel for Europe":MAILTO:welcome@chapelforeurope.eu
END:VEVENT
BEGIN:VEVENT
DTSTART;TZID=Europe/Brussels:20241119T120000
DTEND;TZID=Europe/Brussels:20241119T130000
DTSTAMP:20260419T170639
CREATED:20241118T140438Z
LAST-MODIFIED:20241119T093454Z
UID:10005181-1732017600-1732021200@chapelforeurope.eu
SUMMARY:Festival "Venite\, Adoremus 2024"
DESCRIPTION:The Chapel for Europe invites you to take part in the ‘Venite\, Adoremus 2024’ Eucharistic Adoration Festival. \nThe Chapel will host the Venite\, Adoremus 2024 Festival in the crypt on : \n– Monday 18 November from 12:00 to 14:00. \n– Tuesday 19 November from 12:00 to 13:00. You are invited to join the weekly Mass at 1.15pm in the Chapel. \n– Wednesday 20 November from 12:00 to 13:00. You are invited to join the weekly Mass at 1.15pm in the Chapel. \n  \nThe Festival of Eucharistic Adoration ‘Venite\, Adoremus 2024’ will be from 14 to 24 November 2024\, throughout Belgium. \nHERE the full programme.
URL:https://chapelforeurope.eu/event/festival-venite-adoremus-2024/2024-11-19/
LOCATION:Chapel for Europe\, Rue Van Maerlantstraat 22-24\, Brussels\, Belgium
CATEGORIES:Regular Events,Religion,Spirituality
ATTACH;FMTTYPE=image/png:https://chapelforeurope.eu/wp-content/uploads/2024/11/Venite-Adoremus-Dec-2024-e1731938553748.png
ORGANIZER;CN="Chapel for Europe":MAILTO:welcome@chapelforeurope.eu
END:VEVENT
BEGIN:VEVENT
DTSTART;TZID=Europe/Brussels:20241118T120000
DTEND;TZID=Europe/Brussels:20241118T140000
DTSTAMP:20260419T170639
CREATED:20241118T104740Z
LAST-MODIFIED:20241118T135621Z
UID:10005180-1731931200-1731938400@chapelforeurope.eu
SUMMARY:18\,19\, 20.11.2024 - 12:00 Festival "Venite\, Adoremus 2024"
DESCRIPTION:The Chapel for Europe invites you to take part in the ‘Venite\, Adoremus 2024’ Eucharistic Adoration Festival. \nThe Chapel will host the Venite\, Adoremus 2024 Festival in the crypt on : \n– Monday 18 November from 12:00 to 14:00. \n– Tuesday 19 November from 12:00 to 13:00. You are invited to join the weekly Mass at 1.15pm in the Chapel. \n– Wednesday 20 November from 12:00 to 13:00. You are invited to join the weekly Mass at 1.15pm in the Chapel. \n  \nThe Festival of Eucharistic Adoration ‘Venite\, Adoremus 2024’ will be from 14 to 24 November 2024\, throughout Belgium. \nHERE the full programme.
URL:https://chapelforeurope.eu/event/1819-20-11-2024-1200-festival-venite-adoremus-2024/
LOCATION:Chapel for Europe\, Rue Van Maerlantstraat 22-24\, Brussels\, Belgium
CATEGORIES:Regular Events,Religion,Spirituality
ATTACH;FMTTYPE=image/png:https://chapelforeurope.eu/wp-content/uploads/2024/11/Venite-Adoremus-Dec-2024-e1731938553748.png
ORGANIZER;CN="Chapel for Europe":MAILTO:welcome@chapelforeurope.eu
END:VEVENT
BEGIN:VEVENT
DTSTART;TZID=Europe/Brussels:20241113T190000
DTEND;TZID=Europe/Brussels:20241113T203000
DTSTAMP:20260419T170639
CREATED:20241106T101514Z
LAST-MODIFIED:20241106T101720Z
UID:10004419-1731524400-1731529800@chapelforeurope.eu
SUMMARY:Alpha Course at the Chapel
DESCRIPTION:Come and be curious. An alpha course is a series of group conversations that freely explore the basics of the Christian faith in an open\, friendly environment. Everyone’s welcome. No matter your background or beliefs\, you’re invited. \nAlpha brings together people from all walks of life who are curious about faith. Each session starts with some time to eat\, relax and get to know your group. \nEach session covers a different topic of faith\, either in a short talk or video. The Alpha episodes are designed to engage and inspire conversation. They’re about thirty minutes long and explore the big issues around faith and unpack the basics of Christianity\, addressing questions such as Who is Jesus?\, How can we have faith? and How does God guide us?  \nThe last part of an Alpha is a chance to share your thoughts on the session’s topic and discuss it in your small groups. It’s an open and welcoming environment\, no matter what your opinion. There’s no pressure to say anything\, but the floor is yours if you do want to. \nDates: 12 Wednesdays\, 19:00-20:30 (16.10.-15.12.24; 15.1.-22.1.25) and one Saturday\, 10:00-18:00 (30.11.)
URL:https://chapelforeurope.eu/event/alpha-course-at-the-chapel-3/2024-11-13/
LOCATION:Chapel for Europe\, Rue Van Maerlantstraat 22-24\, Brussels\, Belgium
CATEGORIES:Ecumenical event,Regular Events,Religion,Sharing,Spirituality,Workshop
ORGANIZER;CN="Chapel for Europe":MAILTO:welcome@chapelforeurope.eu
END:VEVENT
BEGIN:VEVENT
DTSTART;TZID=Europe/Brussels:20241106T190000
DTEND;TZID=Europe/Brussels:20241106T203000
DTSTAMP:20260419T170639
CREATED:20241106T101514Z
LAST-MODIFIED:20241106T101720Z
UID:10004418-1730919600-1730925000@chapelforeurope.eu
SUMMARY:Alpha Course at the Chapel
DESCRIPTION:Come and be curious. An alpha course is a series of group conversations that freely explore the basics of the Christian faith in an open\, friendly environment. Everyone’s welcome. No matter your background or beliefs\, you’re invited. \nAlpha brings together people from all walks of life who are curious about faith. Each session starts with some time to eat\, relax and get to know your group. \nEach session covers a different topic of faith\, either in a short talk or video. The Alpha episodes are designed to engage and inspire conversation. They’re about thirty minutes long and explore the big issues around faith and unpack the basics of Christianity\, addressing questions such as Who is Jesus?\, How can we have faith? and How does God guide us?  \nThe last part of an Alpha is a chance to share your thoughts on the session’s topic and discuss it in your small groups. It’s an open and welcoming environment\, no matter what your opinion. There’s no pressure to say anything\, but the floor is yours if you do want to. \nDates: 12 Wednesdays\, 19:00-20:30 (16.10.-15.12.24; 15.1.-22.1.25) and one Saturday\, 10:00-18:00 (30.11.)
URL:https://chapelforeurope.eu/event/alpha-course-at-the-chapel-3/2024-11-06/
LOCATION:Chapel for Europe\, Rue Van Maerlantstraat 22-24\, Brussels\, Belgium
CATEGORIES:Ecumenical event,Regular Events,Religion,Sharing,Spirituality,Workshop
ORGANIZER;CN="Chapel for Europe":MAILTO:welcome@chapelforeurope.eu
END:VEVENT
BEGIN:VEVENT
DTSTART;TZID=Europe/Brussels:20241030T190000
DTEND;TZID=Europe/Brussels:20241030T203000
DTSTAMP:20260419T170639
CREATED:20241106T102452Z
LAST-MODIFIED:20241106T102455Z
UID:10004417-1730314800-1730320200@chapelforeurope.eu
SUMMARY:Alpha Course at the Chapel
DESCRIPTION:Come and be curious. An alpha course is a series of group conversations that freely explore the basics of the Christian faith in an open\, friendly environment. Everyone’s welcome. No matter your background or beliefs\, you’re invited. \nAlpha brings together people from all walks of life who are curious about faith. Each session starts with some time to eat\, relax and get to know your group. \nEach session covers a different topic of faith\, either in a short talk or video. The Alpha episodes are designed to engage and inspire conversation. They’re about thirty minutes long and explore the big issues around faith and unpack the basics of Christianity\, addressing questions such as Who is Jesus?\, How can we have faith? and How does God guide us?  \nThe last part of an Alpha is a chance to share your thoughts on the session’s topic and discuss it in your small groups. It’s an open and welcoming environment\, no matter what your opinion. There’s no pressure to say anything\, but the floor is yours if you do want to. \nDates: 12 Wednesdays\, 19:00-20:30 (16.10.-15.12.24; 15.1.-22.1.25) and one Saturday\, 10:00-18:00 (30.11.)
URL:https://chapelforeurope.eu/event/alpha-course-at-the-chapel-4/
LOCATION:Chapel for Europe\, Rue Van Maerlantstraat 22-24\, Brussels\, Belgium
CATEGORIES:Ecumenical event,Religion,Spirituality,Workshop
ORGANIZER;CN="Chapel for Europe":MAILTO:welcome@chapelforeurope.eu
END:VEVENT
BEGIN:VEVENT
DTSTART;TZID=Europe/Brussels:20241028T080000
DTEND;TZID=Europe/Brussels:20241028T090000
DTSTAMP:20260419T170639
CREATED:20241106T105007Z
LAST-MODIFIED:20241106T105012Z
UID:10003909-1730102400-1730106000@chapelforeurope.eu
SUMMARY:Morning Prayer (fr)
DESCRIPTION:Come and discover our Morning Prayer with psalms\, the Gospel of the day and intercession prayer\, following mainly the prayer of the Laudes. The prayers are mostly in French\, but can also be partly in English\, depending on the attending persons. \n30 minutes of prayer are followed by a coffee or tea together in the entrance hall of the Chapel. This is an excellent way to start the working day! \nWhen: \n\nMondays\,  8:00-9:00 at the Chapel\nWednesday\, 8:00-9:00 via Zoom at https://us02web.zoom.us/j/82240793358#success \,  ID: 822 4079 3358 – There is no code\, there is a waiting room. For more information\, please contact:  Fabienne ALCARAZ at : Fabienne.ALCARAZ@ec.europa.eu\nFridays\, 8:30-9:00 in the Crypt of the Chapel\n\nContact person: Fabienne Alcaraz at  Fabienne.ALCARAZ@ec.europa.eu
URL:https://chapelforeurope.eu/event/morning-prayer-fr-3-5/
LOCATION:Chapel for Europe\, Rue Van Maerlantstraat 22-24\, Brussels\, Belgium
CATEGORIES:Ecumenical Prayer,Meditation,Religion,Sharing
ATTACH;FMTTYPE=image/jpeg:https://chapelforeurope.eu/wp-content/uploads/2024/07/Morning-Prayer-1-scaled-1-e1721131312384.jpg
ORGANIZER;CN="Chapel for Europe":MAILTO:welcome@chapelforeurope.eu
END:VEVENT
BEGIN:VEVENT
DTSTART;TZID=Europe/Brussels:20241023T190000
DTEND;TZID=Europe/Brussels:20241023T203000
DTSTAMP:20260419T170639
CREATED:20240802T125740Z
LAST-MODIFIED:20241106T102326Z
UID:10004416-1729710000-1729715400@chapelforeurope.eu
SUMMARY:Alpha Course at the Chapel
DESCRIPTION:Come and be curious. An alpha course is a series of group conversations that freely explore the basics of the Christian faith in an open\, friendly environment. Everyone’s welcome. No matter your background or beliefs\, you’re invited. \nAlpha brings together people from all walks of life who are curious about faith. Each session starts with some time to eat\, relax and get to know your group. \nEach session covers a different topic of faith\, either in a short talk or video. The Alpha episodes are designed to engage and inspire conversation. They’re about thirty minutes long and explore the big issues around faith and unpack the basics of Christianity\, addressing questions such as Who is Jesus?\, How can we have faith? and How does God guide us?  \nThe last part of an Alpha is a chance to share your thoughts on the session’s topic and discuss it in your small groups. It’s an open and welcoming environment\, no matter what your opinion. There’s no pressure to say anything\, but the floor is yours if you do want to. \nDates: 12 Wednesdays\, 19:00-20:30 (16.10.-15.12.24; 15.1.-22.1.25) and one Saturday\, 10:00-18:00 (30.11.)
URL:https://chapelforeurope.eu/event/alpha-course-at-the-chapel/2024-10-23/
LOCATION:Chapel for Europe\, Rue Van Maerlantstraat 22-24\, Brussels\, Belgium
CATEGORIES:Ecumenical event,Religion,Spirituality,Workshop
ORGANIZER;CN="Chapel for Europe":MAILTO:welcome@chapelforeurope.eu
END:VEVENT
BEGIN:VEVENT
DTSTART;TZID=Europe/Brussels:20241021T080000
DTEND;TZID=Europe/Brussels:20241021T090000
DTSTAMP:20260419T170639
CREATED:20240904T114000Z
LAST-MODIFIED:20240904T114000Z
UID:10003908-1729497600-1729501200@chapelforeurope.eu
SUMMARY:Morning Prayer (fr)
DESCRIPTION:Come and discover our Morning Prayer with psalms\, the Gospel of the day and intercession prayer\, following mainly the prayer of the Laudes. The prayers are mostly in French\, but can also be partly in English\, depending on the attending persons. \n30 minutes of prayer are followed by a coffee or tea together in the entrance hall of the Chapel. This is an excellent way to start the working day! \nWhen: \n\nMondays\,  8:00-9:00 at the Chapel\nWednesday\, 8:00-9:00 via Zoom at https://us02web.zoom.us/j/82240793358#success \,  ID: 822 4079 3358 – There is no code\, there is a waiting room. For more information\, please contact:  Fabienne ALCARAZ at : Fabienne.ALCARAZ@ec.europa.eu\nFridays\, 8:30-9:00 in the Crypt of the Chapel\n\nContact person: Fabienne Alcaraz at  Fabienne.ALCARAZ@ec.europa.eu
URL:https://chapelforeurope.eu/event/morning-prayer-fr-3/2024-10-21/
LOCATION:Chapel for Europe\, Rue Van Maerlantstraat 22-24\, Brussels\, Belgium
CATEGORIES:Ecumenical Prayer,Meditation,Religion,Sharing
ATTACH;FMTTYPE=image/jpeg:https://chapelforeurope.eu/wp-content/uploads/2024/07/Morning-Prayer-1-scaled-1-e1721131312384.jpg
END:VEVENT
BEGIN:VEVENT
DTSTART;TZID=Europe/Brussels:20241014T080000
DTEND;TZID=Europe/Brussels:20241014T090000
DTSTAMP:20260419T170639
CREATED:20240904T114000Z
LAST-MODIFIED:20240904T114000Z
UID:10003907-1728892800-1728896400@chapelforeurope.eu
SUMMARY:Morning Prayer (fr)
DESCRIPTION:Come and discover our Morning Prayer with psalms\, the Gospel of the day and intercession prayer\, following mainly the prayer of the Laudes. The prayers are mostly in French\, but can also be partly in English\, depending on the attending persons. \n30 minutes of prayer are followed by a coffee or tea together in the entrance hall of the Chapel. This is an excellent way to start the working day! \nWhen: \n\nMondays\,  8:00-9:00 at the Chapel\nWednesday\, 8:00-9:00 via Zoom at https://us02web.zoom.us/j/82240793358#success \,  ID: 822 4079 3358 – There is no code\, there is a waiting room. For more information\, please contact:  Fabienne ALCARAZ at : Fabienne.ALCARAZ@ec.europa.eu\nFridays\, 8:30-9:00 in the Crypt of the Chapel\n\nContact person: Fabienne Alcaraz at  Fabienne.ALCARAZ@ec.europa.eu
URL:https://chapelforeurope.eu/event/morning-prayer-fr-3/2024-10-14/
LOCATION:Chapel for Europe\, Rue Van Maerlantstraat 22-24\, Brussels\, Belgium
CATEGORIES:Ecumenical Prayer,Meditation,Religion,Sharing
ATTACH;FMTTYPE=image/jpeg:https://chapelforeurope.eu/wp-content/uploads/2024/07/Morning-Prayer-1-scaled-1-e1721131312384.jpg
END:VEVENT
BEGIN:VEVENT
DTSTART;TZID=Europe/Brussels:20241007T080000
DTEND;TZID=Europe/Brussels:20241007T090000
DTSTAMP:20260419T170639
CREATED:20240904T114000Z
LAST-MODIFIED:20240904T114000Z
UID:10003906-1728288000-1728291600@chapelforeurope.eu
SUMMARY:Morning Prayer (fr)
DESCRIPTION:Come and discover our Morning Prayer with psalms\, the Gospel of the day and intercession prayer\, following mainly the prayer of the Laudes. The prayers are mostly in French\, but can also be partly in English\, depending on the attending persons. \n30 minutes of prayer are followed by a coffee or tea together in the entrance hall of the Chapel. This is an excellent way to start the working day! \nWhen: \n\nMondays\,  8:00-9:00 at the Chapel\nWednesday\, 8:00-9:00 via Zoom at https://us02web.zoom.us/j/82240793358#success \,  ID: 822 4079 3358 – There is no code\, there is a waiting room. For more information\, please contact:  Fabienne ALCARAZ at : Fabienne.ALCARAZ@ec.europa.eu\nFridays\, 8:30-9:00 in the Crypt of the Chapel\n\nContact person: Fabienne Alcaraz at  Fabienne.ALCARAZ@ec.europa.eu
URL:https://chapelforeurope.eu/event/morning-prayer-fr-3/2024-10-07/
LOCATION:Chapel for Europe\, Rue Van Maerlantstraat 22-24\, Brussels\, Belgium
CATEGORIES:Ecumenical Prayer,Meditation,Religion,Sharing
ATTACH;FMTTYPE=image/jpeg:https://chapelforeurope.eu/wp-content/uploads/2024/07/Morning-Prayer-1-scaled-1-e1721131312384.jpg
END:VEVENT
BEGIN:VEVENT
DTSTART;TZID=Europe/Brussels:20240930T080000
DTEND;TZID=Europe/Brussels:20240930T090000
DTSTAMP:20260419T170639
CREATED:20240904T114000Z
LAST-MODIFIED:20240904T114000Z
UID:10003905-1727683200-1727686800@chapelforeurope.eu
SUMMARY:Morning Prayer (fr)
DESCRIPTION:Come and discover our Morning Prayer with psalms\, the Gospel of the day and intercession prayer\, following mainly the prayer of the Laudes. The prayers are mostly in French\, but can also be partly in English\, depending on the attending persons. \n30 minutes of prayer are followed by a coffee or tea together in the entrance hall of the Chapel. This is an excellent way to start the working day! \nWhen: \n\nMondays\,  8:00-9:00 at the Chapel\nWednesday\, 8:00-9:00 via Zoom at https://us02web.zoom.us/j/82240793358#success \,  ID: 822 4079 3358 – There is no code\, there is a waiting room. For more information\, please contact:  Fabienne ALCARAZ at : Fabienne.ALCARAZ@ec.europa.eu\nFridays\, 8:30-9:00 in the Crypt of the Chapel\n\nContact person: Fabienne Alcaraz at  Fabienne.ALCARAZ@ec.europa.eu
URL:https://chapelforeurope.eu/event/morning-prayer-fr-3/2024-09-30/
LOCATION:Chapel for Europe\, Rue Van Maerlantstraat 22-24\, Brussels\, Belgium
CATEGORIES:Ecumenical Prayer,Meditation,Religion,Sharing
ATTACH;FMTTYPE=image/jpeg:https://chapelforeurope.eu/wp-content/uploads/2024/07/Morning-Prayer-1-scaled-1-e1721131312384.jpg
END:VEVENT
BEGIN:VEVENT
DTSTART;TZID=Europe/Brussels:20240911T190000
DTEND;TZID=Europe/Brussels:20240911T200000
DTSTAMP:20260419T170639
CREATED:20240726T100144Z
LAST-MODIFIED:20240904T113434Z
UID:10004413-1726081200-1726084800@chapelforeurope.eu
SUMMARY:Memorial mass for Fr. Peter Knauer sj
DESCRIPTION:On  July 22nd 2024 Fr. Peter Knauer sj died peacefully in Berlin a the age of 89 years. \nAfter being retired as professor of fundamental theology he came to Brussels in 2003 until 2018. Many will remember him for his pastoral services at the Foyer Catholique and at the Chapel as well as in other communities\, speaking in Spanish\, Italian\, German\,… even Esperanto. He was loved for his kindness and commitment\, his sharp intellectual mind and his deep expertise in St. Ignatius of Loyola and his spirituality \nWe are inviting all who knew him to a memorial mass an 11. September at 19.00h in the Chapel for Europe. \nMay he rest in peace!
URL:https://chapelforeurope.eu/event/memorial-mass-for-fr-peter-knauer-sj/
CATEGORIES:Mass,Religion,Sharing
END:VEVENT
END:VCALENDAR